BEGIN:VCALENDAR
VERSION:2.0
PRODID:-//SAMEFORME - ECPv6.0.6.2//NONSGML v1.0//EN
CALSCALE:GREGORIAN
METHOD:PUBLISH
X-WR-CALNAME:SAMEFORME
X-ORIGINAL-URL:https://sameforme.fr
X-WR-CALDESC:évènements pour SAMEFORME
REFRESH-INTERVAL;VALUE=DURATION:PT1H
X-Robots-Tag:noindex
X-PUBLISHED-TTL:PT1H
BEGIN:VTIMEZONE
TZID:Europe/Paris
BEGIN:DAYLIGHT
TZOFFSETFROM:+0100
TZOFFSETTO:+0200
TZNAME:CEST
DTSTART:20160327T010000
END:DAYLIGHT
BEGIN:STANDARD
TZOFFSETFROM:+0200
TZOFFSETTO:+0100
TZNAME:CET
DTSTART:20161030T010000
END:STANDARD
BEGIN:DAYLIGHT
TZOFFSETFROM:+0100
TZOFFSETTO:+0200
TZNAME:CEST
DTSTART:20170326T010000
END:DAYLIGHT
BEGIN:STANDARD
TZOFFSETFROM:+0200
TZOFFSETTO:+0100
TZNAME:CET
DTSTART:20171029T010000
END:STANDARD
BEGIN:DAYLIGHT
TZOFFSETFROM:+0100
TZOFFSETTO:+0200
TZNAME:CEST
DTSTART:20180325T010000
END:DAYLIGHT
BEGIN:STANDARD
TZOFFSETFROM:+0200
TZOFFSETTO:+0100
TZNAME:CET
DTSTART:20181028T010000
END:STANDARD
BEGIN:DAYLIGHT
TZOFFSETFROM:+0100
TZOFFSETTO:+0200
TZNAME:CEST
DTSTART:20190331T010000
END:DAYLIGHT
BEGIN:STANDARD
TZOFFSETFROM:+0200
TZOFFSETTO:+0100
TZNAME:CET
DTSTART:20191027T010000
END:STANDARD
END:VTIMEZONE
BEGIN:VEVENT
DTSTART;VALUE=DATE:20191013
DTEND;VALUE=DATE:20191014
DTSTAMP:20260421T151126
CREATED:20190307T195722Z
LAST-MODIFIED:20190307T195924Z
UID:1688-1570924800-1571011199@sameforme.fr
SUMMARY:Marathon Seine Eure
DESCRIPTION:Au programme de cette nouvelle édition\, Marathon\, Ekiden\, marathon duo…
URL:https://sameforme.fr/agenda/marathon-seine-eure-2/
CATEGORIES:Courses
END:VEVENT
BEGIN:VEVENT
DTSTART;VALUE=DATE:20190929
DTEND;VALUE=DATE:20190930
DTSTAMP:20260421T151126
CREATED:20190307T195857Z
LAST-MODIFIED:20190307T195857Z
UID:1690-1569715200-1569801599@sameforme.fr
SUMMARY:Marathon de Berlin
DESCRIPTION:
URL:https://sameforme.fr/agenda/marathon-de-berlin/
LOCATION:Berlin\, Allemagne
CATEGORIES:Courses
END:VEVENT
BEGIN:VEVENT
DTSTART;TZID=Europe/Paris:20190518T080000
DTEND;TZID=Europe/Paris:20190519T170000
DTSTAMP:20260421T151126
CREATED:20190307T194209Z
LAST-MODIFIED:20190307T195934Z
UID:1682-1558166400-1558285200@sameforme.fr
SUMMARY:Week-end Sameforme mai 2019
DESCRIPTION:Comme chaque année\, Sameforme propose à ses adhérent un petit week-end de cohésion. Au programme\, longe côte\, char à voile\, … et le partage de bonnes choses.
URL:https://sameforme.fr/agenda/week-end-sameforme-mai-2019/
CATEGORIES:Vie de l'association
ORGANIZER;CN="sameforme":MAILTO:contact@sameforme.fr
END:VEVENT
BEGIN:VEVENT
DTSTART;TZID=Europe/Paris:20190407T093000
DTEND;TZID=Europe/Paris:20190407T130000
DTSTAMP:20260421T151126
CREATED:20190312T154353Z
LAST-MODIFIED:20190312T154809Z
UID:1713-1554629400-1554642000@sameforme.fr
SUMMARY:Une foulée pour l'autisme
DESCRIPTION:Parcours en forêt du Rouvray\nLes dossards et les T-shirts sont à retirer le\nsamedi 6 avril 2019\nIME l’Escale\, 63 rue du Madrillet\nSaint Etienne du Rouvray – entre 14h et 17h\nInscription de dernière minute: dimanche à partir de 8hoo\nDépart et arrivée des courses: Maison de la Forêt\nStationnement des véhicules: parking Leclerc \nTélécharger le fichier d’inscription \nDroits d’engagement :\n1km enfant gratuit\, 5kms 8€\, 10kms 10€\, pour les moins de 12 ans 4€ et gratuit pour les personnes en situation de handicap\nLibellez votre chèque à l’ordre de\nSésame Autisme Normandie\nAdressez ce bulletin d’inscription accompagné du chèque à: Une foulée pour l’Autisme\, à l’attention de Mme ROUSSEL\, IME l’Escale\, 63 rue du Madrillet 76800 St Etienne du Rouvray
URL:https://sameforme.fr/agenda/une-foulee-pour-lautisme/
LOCATION:Saint etienne du rouvray\, Maison de la Forêt\, Saint etienne du rouvray\, France
CATEGORIES:Courses
ATTACH;FMTTYPE=image/jpeg:https://sameforme.fr/wp-content/uploads/2019/03/sesame-autisme-7-avril-2019.jpg
END:VEVENT
BEGIN:VEVENT
DTSTART;TZID=Europe/Paris:20190224T080000
DTEND;TZID=Europe/Paris:20190224T170000
DTSTAMP:20260421T151126
CREATED:20190307T194004Z
LAST-MODIFIED:20190307T194028Z
UID:1679-1550995200-1551027600@sameforme.fr
SUMMARY:Saint-Paër
DESCRIPTION:30 bornes de Saint-Paër avec des relais Sameforme au départ.\nSandra P\, Nicolas E\, Amaury\, Sylvie.. pour ne citer que quelques participants.\nAu programme le 30 kilomètres pour les courageux ou le relai 3*10 kilomètres.
URL:https://sameforme.fr/agenda/saint-paer/
LOCATION:Saint-Paër\, 76480\, France
CATEGORIES:Courses
END:VEVENT
BEGIN:VEVENT
DTSTART;TZID=Europe/Paris:20170916T190000
DTEND;TZID=Europe/Paris:20170916T220000
DTSTAMP:20260421T151126
CREATED:20170615T174443Z
LAST-MODIFIED:20170615T174443Z
UID:1583-1505588400-1505599200@sameforme.fr
SUMMARY:A.G.
DESCRIPTION:A.G. de l’asso. Heure non définie à ce jour
URL:https://sameforme.fr/agenda/a-g/
LOCATION:ROUEN
END:VEVENT
BEGIN:VEVENT
DTSTART;VALUE=DATE:20170629
DTEND;VALUE=DATE:20170630
DTSTAMP:20260421T151126
CREATED:20160929T165014Z
LAST-MODIFIED:20160929T165014Z
UID:1328-1498694400-1498780799@sameforme.fr
SUMMARY:L'ULTRA MARIN - Raid-Golfe du Morbihan
DESCRIPTION:Participants : \nXavier\,Cédric…
URL:https://sameforme.fr/agenda/lultra-marin-raid-golfe-du-morbihan-2/
LOCATION:Lieu sans nom\, Vannes\, 56000\, France
CATEGORIES:Courses
END:VEVENT
BEGIN:VEVENT
DTSTART;VALUE=DATE:20170527
DTEND;VALUE=DATE:20170528
DTSTAMP:20260421T151126
CREATED:20170126T200017Z
LAST-MODIFIED:20170126T200017Z
UID:1472-1495843200-1495929599@sameforme.fr
SUMMARY:Grand trail des lacs et châteaux
DESCRIPTION:
URL:https://sameforme.fr/agenda/grand-trail-des-lacs-et-chateaux/
LOCATION:Bütgenbach\, Belgique
END:VEVENT
BEGIN:VEVENT
DTSTART;TZID=Europe/Paris:20170429T060000
DTEND;TZID=Europe/Paris:20170429T230000
DTSTAMP:20260421T151126
CREATED:20160929T164502Z
LAST-MODIFIED:20160929T164502Z
UID:1324-1493445600-1493506800@sameforme.fr
SUMMARY:LE RADICATRAIL
DESCRIPTION:Participant : \nXavier
URL:https://sameforme.fr/agenda/le-radicatrail/
LOCATION:Lieu sans nom\, Lillebonne\, France
CATEGORIES:Courses
ORGANIZER;CN="Unnamed%20Organizer":MAILTO:radicatrail@free.fr
END:VEVENT
BEGIN:VEVENT
DTSTART;TZID=Europe/Paris:20170304T170000
DTEND;TZID=Europe/Paris:20170304T200000
DTSTAMP:20260421T151126
CREATED:20170123T180022Z
LAST-MODIFIED:20170123T180022Z
UID:1470-1488646800-1488657600@sameforme.fr
SUMMARY:Trail nocturne
DESCRIPTION:Rappelle le principe aux nouveaux  : Départ vers 17.00 (à confirmer) pour un Trail nocturne des plateaux en 1 ou 2 boucles de 10 Km. Allure modérée\, le principe est de faire 1 sortie en groupe\, donc pas de chrono et … on attend les derniers.
URL:https://sameforme.fr/agenda/trail-nocturne/
CATEGORIES:Entrainement
END:VEVENT
BEGIN:VEVENT
DTSTART;TZID=Europe/Paris:20170226T080000
DTEND;TZID=Europe/Paris:20170226T170000
DTSTAMP:20260421T151126
CREATED:20160929T164001Z
LAST-MODIFIED:20160929T164001Z
UID:1320-1488096000-1488128400@sameforme.fr
SUMMARY:30 BORNES DE SAINT PAER
DESCRIPTION:Participant : \nXavier
URL:https://sameforme.fr/agenda/30-bornes-de-saint-paer/
LOCATION:Lieu sans nom\, saint paer\, 76480
CATEGORIES:Courses
ORGANIZER;CN="Unnamed%20Organizer":MAILTO:jeanpaul.godard@wanadoo.fr
END:VEVENT
BEGIN:VEVENT
DTSTART;TZID=Europe/Paris:20170204T090000
DTEND;TZID=Europe/Paris:20170204T110000
DTSTAMP:20260421T151126
CREATED:20170106T172414Z
LAST-MODIFIED:20170106T172414Z
UID:1460-1486198800-1486206000@sameforme.fr
SUMMARY:P.P.G.
DESCRIPTION:
URL:https://sameforme.fr/agenda/p-p-g-13/
CATEGORIES:Entrainement
END:VEVENT
BEGIN:VEVENT
DTSTART;TZID=Europe/Paris:20170201T173000
DTEND;TZID=Europe/Paris:20170201T183000
DTSTAMP:20260421T151126
CREATED:20170106T172331Z
LAST-MODIFIED:20170106T172331Z
UID:1458-1485970200-1485973800@sameforme.fr
SUMMARY:Entrainement spécifique
DESCRIPTION:
URL:https://sameforme.fr/agenda/entrainement-specifique-3/
CATEGORIES:Entrainement
END:VEVENT
BEGIN:VEVENT
DTSTART;TZID=Europe/Paris:20170129T093000
DTEND;TZID=Europe/Paris:20170129T110000
DTSTAMP:20260421T151126
CREATED:20170106T172236Z
LAST-MODIFIED:20170106T172236Z
UID:1456-1485682200-1485687600@sameforme.fr
SUMMARY:Entrainement\, sortie
DESCRIPTION:
URL:https://sameforme.fr/agenda/entrainement-sortie-4/
CATEGORIES:Entrainement
END:VEVENT
BEGIN:VEVENT
DTSTART;TZID=Europe/Paris:20170128T090000
DTEND;TZID=Europe/Paris:20170128T110000
DTSTAMP:20260421T151126
CREATED:20170106T172147Z
LAST-MODIFIED:20170106T172147Z
UID:1454-1485594000-1485601200@sameforme.fr
SUMMARY:P.P.G.
DESCRIPTION:
URL:https://sameforme.fr/agenda/p-p-g-12/
CATEGORIES:Entrainement
END:VEVENT
BEGIN:VEVENT
DTSTART;TZID=Europe/Paris:20170124T173000
DTEND;TZID=Europe/Paris:20170124T180000
DTSTAMP:20260421T151126
CREATED:20170106T172102Z
LAST-MODIFIED:20170106T172102Z
UID:1452-1485279000-1485280800@sameforme.fr
SUMMARY:Entrainement spécifique
DESCRIPTION:
URL:https://sameforme.fr/agenda/entrainement-specifique-2/
CATEGORIES:Entrainement
END:VEVENT
BEGIN:VEVENT
DTSTART;TZID=Europe/Paris:20170121T090000
DTEND;TZID=Europe/Paris:20170121T110000
DTSTAMP:20260421T151126
CREATED:20170106T171922Z
LAST-MODIFIED:20170106T171922Z
UID:1448-1484989200-1484996400@sameforme.fr
SUMMARY:P.P.G.
DESCRIPTION:
URL:https://sameforme.fr/agenda/p-p-g-11/
LOCATION:Stade Saint-Exupéry (Rouen)\, impasse Gaumont\, Rouen\, 76000\, France Métropolitaine
CATEGORIES:Entrainement
END:VEVENT
BEGIN:VEVENT
DTSTART;TZID=Europe/Paris:20170118T173000
DTEND;TZID=Europe/Paris:20170118T183000
DTSTAMP:20260421T151126
CREATED:20170106T171830Z
LAST-MODIFIED:20170106T171830Z
UID:1446-1484760600-1484764200@sameforme.fr
SUMMARY:Entrainement spécifique
DESCRIPTION:
URL:https://sameforme.fr/agenda/entrainement-specifique/
LOCATION:Stade Saint-Exupéry (Rouen)\, impasse Gaumont\, Rouen\, 76000\, France Métropolitaine
CATEGORIES:Entrainement
END:VEVENT
BEGIN:VEVENT
DTSTART;TZID=Europe/Paris:20170115T093000
DTEND;TZID=Europe/Paris:20170115T110000
DTSTAMP:20260421T151126
CREATED:20170106T171703Z
LAST-MODIFIED:20170106T171703Z
UID:1444-1484472600-1484478000@sameforme.fr
SUMMARY:Entrainement\, sortie
DESCRIPTION:
URL:https://sameforme.fr/agenda/entrainement-sortie-2/
LOCATION:Stade Saint-Exupéry (Rouen)\, impasse Gaumont\, Rouen\, 76000\, France Métropolitaine
CATEGORIES:Entrainement
END:VEVENT
BEGIN:VEVENT
DTSTART;TZID=Europe/Paris:20170114T090000
DTEND;TZID=Europe/Paris:20170114T110000
DTSTAMP:20260421T151126
CREATED:20170106T171611Z
LAST-MODIFIED:20170106T171611Z
UID:1442-1484384400-1484391600@sameforme.fr
SUMMARY:P.P.G.
DESCRIPTION:
URL:https://sameforme.fr/agenda/p-p-g-10/
LOCATION:Stade Saint-Exupéry (Rouen)\, impasse Gaumont\, Rouen\, 76000\, France Métropolitaine
CATEGORIES:Entrainement
END:VEVENT
BEGIN:VEVENT
DTSTART;TZID=Europe/Paris:20170111T173000
DTEND;TZID=Europe/Paris:20170111T183000
DTSTAMP:20260421T151126
CREATED:20170106T171425Z
LAST-MODIFIED:20170106T171521Z
UID:1438-1484155800-1484159400@sameforme.fr
SUMMARY:Entraînement spécifique
DESCRIPTION:
URL:https://sameforme.fr/agenda/entraienemnt-specifique/
CATEGORIES:Entrainement
END:VEVENT
BEGIN:VEVENT
DTSTART;TZID=Europe/Paris:20170108T093000
DTEND;TZID=Europe/Paris:20170108T110000
DTSTAMP:20260421T151126
CREATED:20170106T171222Z
LAST-MODIFIED:20170106T171309Z
UID:1436-1483867800-1483873200@sameforme.fr
SUMMARY:Entrainement\, sortie
DESCRIPTION:
URL:https://sameforme.fr/agenda/entrainement-sortie/
LOCATION:Stade Saint-Exupéry (Rouen)\, impasse Gaumont\, Rouen\, 76000\, France Métropolitaine
CATEGORIES:Entrainement
END:VEVENT
BEGIN:VEVENT
DTSTART;TZID=Europe/Paris:20170107T090000
DTEND;TZID=Europe/Paris:20170107T110000
DTSTAMP:20260421T151126
CREATED:20170106T170600Z
LAST-MODIFIED:20170106T170940Z
UID:1434-1483779600-1483786800@sameforme.fr
SUMMARY:P.P.G.
DESCRIPTION:
URL:https://sameforme.fr/agenda/p-p-g-9/
LOCATION:Stade Saint-Exupéry (Rouen)\, impasse Gaumont\, Rouen\, 76000\, France Métropolitaine
END:VEVENT
BEGIN:VEVENT
DTSTART;TZID=Europe/Paris:20170104T173000
DTEND;TZID=Europe/Paris:20170104T183000
DTSTAMP:20260421T151126
CREATED:20161203T165533Z
LAST-MODIFIED:20161203T165533Z
UID:1421-1483551000-1483554600@sameforme.fr
SUMMARY:Entraînement
DESCRIPTION:
URL:https://sameforme.fr/agenda/entrainement-13/
LOCATION:Stade Saint-Exupéry (Rouen)\, impasse Gaumont\, Rouen\, 76000\, France Métropolitaine
CATEGORIES:Entrainement
END:VEVENT
BEGIN:VEVENT
DTSTART;TZID=Europe/Paris:20170101T093000
DTEND;TZID=Europe/Paris:20170101T110000
DTSTAMP:20260421T151126
CREATED:20161203T165438Z
LAST-MODIFIED:20161203T165438Z
UID:1420-1483263000-1483268400@sameforme.fr
SUMMARY:Entraînement
DESCRIPTION:
URL:https://sameforme.fr/agenda/entrainement-12/
LOCATION:Stade Saint-Exupéry (Rouen)\, impasse Gaumont\, Rouen\, 76000\, France Métropolitaine
CATEGORIES:Entrainement
END:VEVENT
BEGIN:VEVENT
DTSTART;TZID=Europe/Paris:20161231T090000
DTEND;TZID=Europe/Paris:20161231T110000
DTSTAMP:20260421T151126
CREATED:20161203T165329Z
LAST-MODIFIED:20161203T165329Z
UID:1419-1483174800-1483182000@sameforme.fr
SUMMARY:P.P.G.
DESCRIPTION:
URL:https://sameforme.fr/agenda/p-p-g-7/
LOCATION:Stade Saint-Exupéry (Rouen)\, impasse Gaumont\, Rouen\, 76000\, France Métropolitaine
CATEGORIES:Entrainement
END:VEVENT
BEGIN:VEVENT
DTSTART;TZID=Europe/Paris:20161228T173000
DTEND;TZID=Europe/Paris:20161228T183000
DTSTAMP:20260421T151126
CREATED:20161203T165226Z
LAST-MODIFIED:20161203T165226Z
UID:1418-1482946200-1482949800@sameforme.fr
SUMMARY:Entraînement
DESCRIPTION:
URL:https://sameforme.fr/agenda/entrainement-11/
CATEGORIES:Entrainement
END:VEVENT
BEGIN:VEVENT
DTSTART;TZID=Europe/Paris:20161225T093000
DTEND;TZID=Europe/Paris:20161225T110000
DTSTAMP:20260421T151126
CREATED:20161203T165135Z
LAST-MODIFIED:20161203T165135Z
UID:1417-1482658200-1482663600@sameforme.fr
SUMMARY:Sortie\, entraînement
DESCRIPTION:
URL:https://sameforme.fr/agenda/sortie-entrainement-14/
LOCATION:Stade Saint-Exupéry (Rouen)\, impasse Gaumont\, Rouen\, 76000\, France Métropolitaine
CATEGORIES:Entrainement
END:VEVENT
BEGIN:VEVENT
DTSTART;TZID=Europe/Paris:20161224T090000
DTEND;TZID=Europe/Paris:20161224T110000
DTSTAMP:20260421T151126
CREATED:20161203T164922Z
LAST-MODIFIED:20161203T164922Z
UID:1416-1482570000-1482577200@sameforme.fr
SUMMARY:P.P.G.
DESCRIPTION:
URL:https://sameforme.fr/agenda/p-p-g-6/
CATEGORIES:Entrainement
END:VEVENT
BEGIN:VEVENT
DTSTART;TZID=Europe/Paris:20161221T173000
DTEND;TZID=Europe/Paris:20161221T183000
DTSTAMP:20260421T151126
CREATED:20161203T164830Z
LAST-MODIFIED:20161203T164830Z
UID:1415-1482341400-1482345000@sameforme.fr
SUMMARY:Entraînement
DESCRIPTION:
URL:https://sameforme.fr/agenda/entrainement-10/
LOCATION:Stade Saint-Exupéry (Rouen)\, impasse Gaumont\, Rouen\, 76000\, France Métropolitaine
CATEGORIES:Entrainement
END:VEVENT
END:VCALENDAR